0.5
0
0
-0.5
593418.539244427
4756905.67842394
