0.5
0
0
-0.5
610414.074551659
4757162.58351002
