0.5
0
0
-0.5
613813.195225997
4757219.02120089
