0.5
0
0
-0.5
613852.147141861
4754905.56636539
