0.5
0
0
-0.5
617372.625393511
4748023.36332471
