0.5
0
0
-0.5
603793.467602502
4745487.59176063
