0.5
0
0
-0.5
610603.054502856
4745595.38565735
