0.5
0
0
-0.5
617412.666019114
4745709.9463891
