0.5
0
0
-0.5
620528.904596165
4761963.81392273
