0.5
0
0
-0.5
627366.300992851
4759774.8860274
