0.5
0
0
-0.5
627409.890431146
4757461.44504397
