0.5
0
0
-0.5
624053.073522109
4755084.90237319
