0.5
0
0
-0.5
657893.9358816
4762732.3743865
