0.5
0
0
-0.5
651204.033115797
4757950.51922422
