0.5
0
0
-0.5
664799.99369083
4758267.50630176
