0.5
0
0
-0.5
658055.969500817
4755792.27970479
