0.5
0
0
-0.5
664968.83796181
4751327.44721551
