0.5
0
0
-0.5
668371.358960847
4751410.89385443
