0.5
0
0
-0.5
648007.013588688
4748622.23447689
