0.5
0
0
-0.5
661621.432798235
4748932.37682949
