0.5
0
0
-0.5
654866.967507159
4746460.63877011
