0.5
0
0
-0.5
665081.30341652
4746700.80770611
