0.5
0
0
-0.5
559633.563763342
4733384.81514602
