0.5
0
0
-0.5
556242.349641634
4731042.12432776
