0.5
0
0
-0.5
559674.7207804
4728758.04804095
