0.5
0
0
-0.5
583450.306999886
4738264.56590173
