0.5
0
0
-0.5
573250.730971609
4735832.60573629
