0.5
0
0
-0.5
590297.643450256
4736038.70624061
