0.5
0
0
-0.5
576686.370642793
4733557.09274247
