0.5
0
0
-0.5
573351.178116105
4726579.17076301
