0.5
0
0
-0.5
590420.788044715
4726785.31825407
