0.5
0
0
-0.5
614046.75004808
4743338.42634222
