0.5
0
0
-0.5
641295.666767197
4743850.71008868
