0.5
0
0
-0.5
620899.908452782
4741143.01840068
