0.5
0
0
-0.5
631166.339124194
4739019.2669763
