0.5
0
0
-0.5
634666.171877451
4734459.15215086
