0.5
0
0
-0.5
638170.490317907
4729900.83513781
