0.5
0
0
-0.5
634803.136397278
4727519.27572457
