0.5
0
0
-0.5
654919.689470468
4744147.32734129
