0.5
0
0
-0.5
655077.711673494
4737207.36147845
