0.5
0
0
-0.5
655130.345390762
4734894.04797481
