0.5
0
0
-0.5
665474.565512348
4730507.43165877
