0.5
0
0
-0.5
675474.9915151
4740016.05715359
