0.5
0
0
-0.5
546086.935378746
4719397.84703217
