0.5
0
0
-0.5
556339.330198446
4719475.52608533
