0.5
0
0
-0.5
566568.894155616
4721881.79639801
