0.5
0
0
-0.5
580261.030749893
4719716.68245437
