0.5
0
0
-0.5
583706.836581405
4717444.64901395
