0.5
0
0
-0.5
576922.15393625
4712737.28507599
