0.5
0
0
-0.5
570128.283209427
4708036.68546173
